BEGIN:VCALENDAR
PRODID:-//github.com/rianjs/ical.net//NONSGML ical.net 4.0//EN
VERSION:2.0
BEGIN:VEVENT
DESCRIPTION:Details:\nhttps://bbyo.org/bbyo-near-you/regions/ohio-northern
 -region/onr-winter-convention-ait-mit-2022-early-bird-regi
DTEND:20220313T110000
DTSTAMP:20260424T224030Z
DTSTART:20220311T170000
LOCATION:
SEQUENCE:0
SUMMARY:ONR Winter Convention - AIT MIT 2022 - EARLY BIRD REGISTRATION
UID:070d3c02-98ea-4d85-83fc-4f6ac66a9761
END:VEVENT
END:VCALENDAR
