BEGIN:VCALENDAR
PRODID:-//github.com/rianjs/ical.net//NONSGML ical.net 4.0//EN
VERSION:2.0
BEGIN:VEVENT
DESCRIPTION:Details:\nhttps://bbyo.org/bbyo-near-you/regions/hudson-valley
 -region/hvr-feeding-wchr-food-drive
DTEND:20221113T150000
DTSTAMP:20260425T124343Z
DTSTART:20221113T100000
LOCATION:DeCiccos & Sons
SEQUENCE:0
SUMMARY:HVR Feeding WCHR Food Drive
UID:77f51ee0-5de0-4cc5-a0e4-80d41ae51d23
END:VEVENT
END:VCALENDAR
