BEGIN:VCALENDAR
PRODID:-//github.com/rianjs/ical.net//NONSGML ical.net 4.0//EN
VERSION:2.0
BEGIN:VEVENT
DESCRIPTION:Details:\nhttps://bbyo.org/bbyo-near-you/regions/connecticut-v
 alley-region/spring-kallah-senior-extension-4-to-a-room
DTEND:20230430T140000
DTSTAMP:20260423T200917Z
DTSTART:20230427T170000
LOCATION:
SEQUENCE:0
SUMMARY:Spring Kallah Senior Extension 4 to a room
UID:f5d7aa6c-ccbd-4018-a04d-b4f9877eba13
END:VEVENT
END:VCALENDAR
