BEGIN:VCALENDAR
PRODID:-//github.com/rianjs/ical.net//NONSGML ical.net 4.0//EN
VERSION:2.0
BEGIN:VEVENT
DESCRIPTION:Details:\nhttps://bbyo.org/bbyo-near-you/regions/wisconsin-reg
 ion/wi-src-2021-unleash-your-power
DTEND:20210530T170000
DTSTAMP:20260425T123443Z
DTSTART:20210528T170000
LOCATION:
SEQUENCE:0
SUMMARY:WI - SRC 2021: Unleash Your Power
UID:ce85242f-25ab-4f06-9a16-bd1fbc90595e
END:VEVENT
END:VCALENDAR
