BEGIN:VCALENDAR
PRODID:-//github.com/rianjs/ical.net//NONSGML ical.net 4.0//EN
VERSION:2.0
BEGIN:VEVENT
DESCRIPTION:Details:\nhttps://bbyo.org/bbyo-near-you/regions/greater-jerse
 y-region/gjhrr-fall-fest-global-shabbat-roller-skating-(1)\n\nSummary:\n 
 \n\n**PLEASE NOTE: THIS EVENT HAS BEEN CANCELLED**\n\nPlease join GJHRR o
 n December 1st in Woodbridge for our annual Fall Fest/Global Shabbat even
 t. The evening will include a Havdalah service and roller skating. Regist
 ration for this event is $30\, which will include roller skating\, DJ\, a
 n arcade card with a $5 allowance. Higher allowances and food will be ava
 ilable for purchase.\n\nThe theme is NEON!!!!!!!\n\nThis registration is 
 for the EVENT AND BUS. If you would like to sign up for the event only\, 
 please refer to the Fall Fest/Global Shabbat (EVENT ONLY) link. Busing is
  available from Marlboro\, Berkley Heights\, Livingston\, and Paramus. **
 Busses from Berkeley Heights and Marlboro will only be available if 35 te
 ens are signed up from each location**\n\nThis event is open to 8th throu
 gh 12th graders. Any Jewish non-members are also welcome.\n\nNO REFUNDS w
 ill be provided for this event.\n\nFor any questions or concerns please c
 ontact the following:\n\nMaya Zucker - mayazucker21@gmail.com\n\nDanny Hu
 bert - dannyhubert9@gmail.com\n\nAmber Geltzeiler - amber.geltzeiler@gmai
 l.com\n\nBen Bachrach - ben.bachrach@yahoo.com\n\nRachel Stulberger - rst
 ully@gmail.com\n\nRachel Bachman - bachmanrachel1@gmail.com
DTEND:20181201T230000
DTSTAMP:20260423T002247Z
DTSTART:20181201T200000
LOCATION:Woodbridge New Jersey
SEQUENCE:0
SUMMARY:GJHRR Fall Fest/Global Shabbat Roller Skating (EVENT and BUS)
UID:2774845d-8eac-46dd-963c-fdf1441e780f
END:VEVENT
END:VCALENDAR
