BEGIN:VCALENDAR
PRODID:-//github.com/rianjs/ical.net//NONSGML ical.net 4.0//EN
VERSION:2.0
BEGIN:VEVENT
DESCRIPTION:Details:\nhttps://bbyo.org/bbyo-near-you/regions/pacific-weste
 rn-region/marc-chagall-(1)/bbyo-@-the-beach-san-diego\n\nSummary:\nCome j
 oin Gal Chadash at the beach on Sunday April 21st!\n\n \n\nEvent is open 
 to all San Diego teens.
DTEND:20190421T180000
DTSTAMP:20260423T233900Z
DTSTART:20190421T150000
LOCATION:San Diego California
SEQUENCE:0
SUMMARY:BBYO @ The Beach: San Diego
UID:7081d747-202b-4972-89c8-7fa17f9c9530
END:VEVENT
END:VCALENDAR
