BEGIN:VCALENDAR
PRODID:-//github.com/rianjs/ical.net//NONSGML ical.net 4.0//EN
VERSION:2.0
BEGIN:VEVENT
DESCRIPTION:Details:\nhttps://bbyo.org/bbyo-near-you/regions/greater-jerse
 y-region/central-council-bbg-ten-plague-spa-day\n\nSummary:\nCome learn a
 bout the Ten Plagues of Egypt in a new and relaxing way - through spa and
  beauty treatments! Open to BBGs of Central Council\, we encourage you to
  invite all your Jewish girl frie
DTEND:20160501T160000
DTSTAMP:20260423T200317Z
DTSTART:20160501T130000
LOCATION:Natalie Turner's House
SEQUENCE:0
SUMMARY:Central Council BBG Ten Plague Spa Day
UID:bd48da7f-0c1f-4000-847e-1173c265f6ed
END:VEVENT
END:VCALENDAR
