BEGIN:VCALENDAR
PRODID:-//github.com/rianjs/ical.net//NONSGML ical.net 4.0//EN
VERSION:2.0
BEGIN:VEVENT
DESCRIPTION:Details:\nhttps://bbyo.org/bbyo-near-you/regions/mid-america-r
 egion-st-louis-council/st-louis-bbyo-city-museum-lock-in-2017-members-o\n
 \nSummary:\nGet ready for the highlight event of the year! St. Louis Coun
 cil BBYO takes over the city museum and then heads back to the JCC for a 
 night of programming and fun at a lock-in! Meet at the J
DTEND:20170305T070000
DTSTAMP:20260422T101325Z
DTSTART:20170304T184500
LOCATION:City Museum and JCC West
SEQUENCE:0
SUMMARY:St. Louis BBYO City Museum Lock-in 2017: Members Only
UID:cb22a148-3609-45b3-8bc5-00823001068d
END:VEVENT
END:VCALENDAR
