BEGIN:VCALENDAR
PRODID:-//github.com/rianjs/ical.net//NONSGML ical.net 4.0//EN
VERSION:2.0
BEGIN:VEVENT
DESCRIPTION:Details:\nhttps://bbyo.org/bbyo-near-you/regions/liberty-regio
 n/liberty-new-member-weekend-2019\n\nSummary:\nCALLING ALL NEW MEMBERS!\n
 \nNew Member Weekend (formerly known as IT Convention) is an amazing kick
 off to your BBYO career and a weekend you will never forget! Come join ov
 er 100 new BBYO memb
DTEND:20191215T130000
DTSTAMP:20260423T200527Z
DTSTART:20191213T170000
LOCATION:Wynnewood Pennsylvania
SEQUENCE:0
SUMMARY:Liberty New Member Weekend 2019
UID:df5a4423-c4c9-478d-a036-4b0190698ae4
END:VEVENT
END:VCALENDAR
