BEGIN:VCALENDAR
PRODID:-//github.com/rianjs/ical.net//NONSGML ical.net 4.0//EN
VERSION:2.0
BEGIN:VEVENT
DESCRIPTION:Details:\nhttps://bbyo.org/bbyo-near-you/regions/northern-regi
 on-east-northern-virginia-council/bonfire-and-outdoor-movie-night-with-la
 hat-libresc
DTEND:20181117T190000
DTSTAMP:20260422T101254Z
DTSTART:20181117T170000
LOCATION:
SEQUENCE:0
SUMMARY:Bonfire and Outdoor Movie Night with Lahat & Librescu
UID:8878274d-4970-4158-bb0f-02b056fceef3
END:VEVENT
END:VCALENDAR
