BEGIN:VCALENDAR
PRODID:-//github.com/rianjs/ical.net//NONSGML ical.net 4.0//EN
VERSION:2.0
BEGIN:VEVENT
DESCRIPTION:Details:\nhttps://bbyo.org/bbyo-near-you/regions/international
 -region/cltc-8-(3)\n\nSummary:\nChapter Leadership Training Conference\, 
 CLTC\, is designed for AZA and BBG members who want to learn how to build
  and strengthen their chapter. At CLTC\, teens have fun with peers from a
 cro
DTEND:20150816T090000
DTSTAMP:20260426T030401Z
DTSTART:20150804T130000
LOCATION:Beber Camp
SEQUENCE:0
SUMMARY:CLTC 8
UID:3564c7b2-82fb-433c-b3b3-1c62e45f36ba
END:VEVENT
END:VCALENDAR
