BEGIN:VCALENDAR
PRODID:-//github.com/rianjs/ical.net//NONSGML ical.net 4.0//EN
VERSION:2.0
BEGIN:VEVENT
DESCRIPTION:Details:\nhttps://bbyo.org/bbyo-near-you/regions/greater-jerse
 y-region/gjhrr-mit-(member-in-training)-convention-2021\n\nSummary:\nPlea
 se join us for our MIT (Member In Training) Virtual Convention on Saturda
 y February 27th and Sunday\, February 28th.  This convention is specifica
 lly geared toward new members and is the
DTEND:20210228T150000
DTSTAMP:20260424T213613Z
DTSTART:20210227T143000
LOCATION:Virtual- Zoom
SEQUENCE:0
SUMMARY:GJHRR MIT (Member In Training) Convention 2021
UID:d2512a68-963d-413a-a24c-b4d44d1b8c47
END:VEVENT
END:VCALENDAR
