BEGIN:VCALENDAR
PRODID:-//github.com/rianjs/ical.net//NONSGML ical.net 4.0//EN
VERSION:2.0
BEGIN:VEVENT
DESCRIPTION:Details:\nhttps://bbyo.org/bbyo-near-you/regions/lonestar-regi
 on/austin-bbyo-fall-kickoff-boat-party-(1)\n\nSummary:\nAustin Jewish tee
 ns grades 8-12 are invited to kickoff the school year at our Boat Party o
 n Lake Travis! Meet teens from our 4 chapters: Aaron Reichman AZA\, Capit
 al AZA\, Litzor BBG\, and Ra'n
DTEND:20190818T150000
DTSTAMP:20260425T182955Z
DTSTART:20190818T103000
LOCATION:Leander Texas
SEQUENCE:0
SUMMARY:Austin BBYO Fall Kickoff Boat Party
UID:7a5c5a38-14c7-4657-8d92-cfc81ed293c7
END:VEVENT
END:VCALENDAR
