BEGIN:VCALENDAR
PRODID:-//github.com/rianjs/ical.net//NONSGML ical.net 4.0//EN
VERSION:2.0
BEGIN:VEVENT
DESCRIPTION:Details:\nhttps://bbyo.org/bbyo-near-you/regions/northern-regi
 on-east-baltimore-council/bbyo-baltimore-council-winter-kickoff
DTEND:20180127T001000
DTSTAMP:20260422T001803Z
DTSTART;VALUE=DATE:20180127
LOCATION:
SEQUENCE:0
SUMMARY:BBYO Baltimore Council Winter Kickoff
UID:f2e8e5f7-da7a-4575-904e-a80283fb9213
END:VEVENT
END:VCALENDAR
