BEGIN:VCALENDAR
PRODID:-//github.com/rianjs/ical.net//NONSGML ical.net 4.0//EN
VERSION:2.0
BEGIN:VEVENT
DESCRIPTION:Details:\nhttps://bbyo.org/bbyo-near-you/regions/hudson-valley
 -region/ahava-bbg-rlti-chapter-planning
DTEND:20200913T130000
DTSTAMP:20260423T133223Z
DTSTART:20200913T100000
LOCATION:
SEQUENCE:0
SUMMARY:Ahava BBG RLTI Chapter Planning
UID:c9171f66-1e5a-4738-933a-87feb151e4c3
END:VEVENT
END:VCALENDAR
