BEGIN:VCALENDAR
PRODID:-//github.com/rianjs/ical.net//NONSGML ical.net 4.0//EN
VERSION:2.0
BEGIN:VEVENT
DESCRIPTION:Details:\nhttps://bbyo.org/bbyo-near-you/regions/northern-regi
 on-east-baltimore-council/baltimore-council-field-day-(1)
DTEND:20221016T150000
DTSTAMP:20260419T123223Z
DTSTART:20221016T130000
LOCATION:JCC Fields
SEQUENCE:0
SUMMARY:Baltimore Council Field Day
UID:b0873b20-74b3-4e33-a92e-039c8b1a435c
END:VEVENT
END:VCALENDAR
