BEGIN:VCALENDAR
PRODID:-//github.com/rianjs/ical.net//NONSGML ical.net 4.0//EN
VERSION:2.0
BEGIN:VEVENT
DESCRIPTION:Details:\nhttps://bbyo.org/bbyo-near-you/regions/lake-ontario-
 region/leadership-labs\n\nSummary:\nAll Chapter Executives are invited to
  join us for our first Leadership Lab of the year! We'll be preparing for
  our first few weeks of programming so we can start the year off in a big
  way!
DTEND:20180829T170000
DTSTAMP:20260425T183201Z
DTSTART:20180829T140000
LOCATION:Vaughan  Ontario
SEQUENCE:0
SUMMARY:Leadership Labs
UID:15ba9730-8c5e-4db1-bf95-ed64b063e7b4
END:VEVENT
END:VCALENDAR
