BEGIN:VCALENDAR
PRODID:-//github.com/rianjs/ical.net//NONSGML ical.net 4.0//EN
VERSION:2.0
BEGIN:VEVENT
DESCRIPTION:Details:\nhttps://bbyo.org/bbyo-near-you/regions/north-texas-o
 klahoma-region/teen-mental-health-first-aid-training-cohort-1-(1)
DTEND:20220925T113000
DTSTAMP:20260423T052526Z
DTSTART:20220925T100000
LOCATION:Zoom
SEQUENCE:0
SUMMARY:Teen Mental Health First Aid Training - Cohort 1
UID:6e49bf8a-c63b-48ca-af39-f8d0f1fc65e7
END:VEVENT
END:VCALENDAR
