BEGIN:VCALENDAR
PRODID:-//github.com/rianjs/ical.net//NONSGML ical.net 4.0//EN
VERSION:2.0
BEGIN:VEVENT
DESCRIPTION:Details:\nhttps://bbyo.org/bbyo-near-you/regions/kentucky-indi
 ana-ohio-region/chapter-elections
DTEND:20170906T000100
DTSTAMP:20260426T030257Z
DTSTART;VALUE=DATE:20170906
LOCATION:
SEQUENCE:0
SUMMARY:Chapter Elections
UID:d7731090-f982-4336-a873-0f4e6fe6add8
END:VEVENT
END:VCALENDAR
