BEGIN:VCALENDAR
PRODID:-//github.com/rianjs/ical.net//NONSGML ical.net 4.0//EN
VERSION:2.0
BEGIN:VEVENT
DESCRIPTION:Details:\nhttps://bbyo.org/bbyo-near-you/regions/kentucky-indi
 ana-ohio-region/kio-maz-giz-network-call-march
DTEND:20210307T130000
DTSTAMP:20260425T235514Z
DTSTART:20210307T120000
LOCATION:
SEQUENCE:0
SUMMARY:KIO Maz/Giz Network Call- March
UID:555adc85-1dbc-4913-a42b-090c6e6b6423
END:VEVENT
END:VCALENDAR
