BEGIN:VCALENDAR
PRODID:-//github.com/rianjs/ical.net//NONSGML ical.net 4.0//EN
VERSION:2.0
BEGIN:VEVENT
DESCRIPTION:Details:\nhttps://bbyo.org/bbyo-near-you/regions/mid-america-r
 egion-kansas-city-council/mar-kc-bbyo-connect-pinstripes-for-bowling-and-
 boc
DTEND:20190324T170000
DTSTAMP:20260423T115224Z
DTSTART:20190324T150000
LOCATION:
SEQUENCE:0
SUMMARY:MAR:KC BBYO Connect - Pinstripes for Bowling and Bocce
UID:54c2f440-28da-448e-90ad-69838c56e17f
END:VEVENT
END:VCALENDAR
