BEGIN:VCALENDAR
PRODID:-//github.com/rianjs/ical.net//NONSGML ical.net 4.0//EN
VERSION:2.0
BEGIN:VEVENT
DESCRIPTION:Details:\nhttps://bbyo.org/bbyo-near-you/regions/delta-region/
 csr-fall-regional-kickoff-2016-(pc-3000)\n\nSummary:\nCotton States Regio
 n Fall Regional Kickoff (FRK) registration is open to all returning Cotto
 n States BBYO members! Join your friends from the region\, and of course\
 , make some new ones! Early
DTEND:20160828T130000
DTSTAMP:20260423T002726Z
DTSTART:20160827T173000
LOCATION:
SEQUENCE:0
SUMMARY:CSR Fall Regional Kickoff 2016 (PC 3000)
UID:51cddccd-93b5-46d7-b104-36223c08bff1
END:VEVENT
END:VCALENDAR
