BEGIN:VCALENDAR
PRODID:-//github.com/rianjs/ical.net//NONSGML ical.net 4.0//EN
VERSION:2.0
BEGIN:VEVENT
DESCRIPTION:Details:\nhttps://bbyo.org/bbyo-near-you/regions/michigan-regi
 on/mi-rc-connect-thursday
DTEND:20161229T150000
DTSTAMP:20260422T202407Z
DTSTART:20161229T110000
LOCATION:Teen Center & Pool at JCC
SEQUENCE:0
SUMMARY:MI RC Connect Thursday
UID:a34bef7b-755b-4af4-aec2-387bd6d6380b
END:VEVENT
END:VCALENDAR
