BEGIN:VCALENDAR
PRODID:-//github.com/rianjs/ical.net//NONSGML ical.net 4.0//EN
VERSION:2.0
BEGIN:VEVENT
DESCRIPTION:Details:\nhttps://bbyo.org/bbyo-near-you/regions/nassau-suffol
 k-region/regional-teen-event\n\nSummary:\nSpend the day playing sports\, 
 being creative\, enjoying a BBQ\, dancing\, and mingling\, Battle of the 
 Bands\, with Jewish Teens from all over Long Island.  A surprise guest co
 uld be showing up??
DTEND:20060521T110000
DTSTAMP:20260425T023609Z
DTSTART:20060521T110000
LOCATION:Eisenhower Park
SEQUENCE:0
SUMMARY:Regional Teen Event
UID:ba255205-c2aa-4f4c-b47e-f67415ed6c49
END:VEVENT
END:VCALENDAR
