BEGIN:VCALENDAR
PRODID:-//github.com/rianjs/ical.net//NONSGML ical.net 4.0//EN
VERSION:2.0
BEGIN:VEVENT
DESCRIPTION:Details:\nhttps://bbyo.org/bbyo-near-you/regions/evergreen-reg
 ion/30th-regional-board-sweatshirts
DTEND:20230916T160000
DTSTAMP:20260423T200258Z
DTSTART:20230916T130000
LOCATION:Dan's House
SEQUENCE:0
SUMMARY:30th Regional Board Sweatshirts
UID:66c3c944-e361-4ac3-b797-46ea86bc9745
END:VEVENT
END:VCALENDAR
