BEGIN:VCALENDAR
PRODID:-//github.com/rianjs/ical.net//NONSGML ical.net 4.0//EN
VERSION:2.0
BEGIN:VEVENT
DESCRIPTION:Details:\nhttps://bbyo.org/bbyo-near-you/regions/wisconsin-reg
 ion/wi-oneg-5-13-16
DTEND;VALUE=DATE:20160513
DTSTAMP:20260426T030257Z
DTSTART;VALUE=DATE:20160513
LOCATION:
SEQUENCE:0
SUMMARY:WI - Oneg 5.13.16
UID:6706227a-624e-463b-86fe-03e7e277ed8e
END:VEVENT
END:VCALENDAR
