BEGIN:VCALENDAR
PRODID:-//github.com/rianjs/ical.net//NONSGML ical.net 4.0//EN
VERSION:2.0
BEGIN:VEVENT
DESCRIPTION:Details:\nhttps://bbyo.org/bbyo-near-you/regions/evergreen-reg
 ion/kehillah-convention-2021\n\nSummary:\nGet excited! This year Evergree
 n Region BBYO is hosting Kehillah Convention at Camp Solomon Schechter. T
 his convention is aimed at bringing together a community of Jewish teens 
 from grades 8-12.
DTEND:20211031T120000
DTSTAMP:20260420T125028Z
DTSTART:20211029T170000
LOCATION:Tumwater Washington
SEQUENCE:0
SUMMARY:Kehillah Convention 2021
UID:07a3161a-b853-4082-9ca4-bc9a617d8146
END:VEVENT
END:VCALENDAR
