BEGIN:VCALENDAR
PRODID:-//github.com/rianjs/ical.net//NONSGML ical.net 4.0//EN
VERSION:2.0
BEGIN:VEVENT
DESCRIPTION:Details:\nhttps://bbyo.org/bbyo-near-you/regions/north-texas-o
 klahoma-region/maccabi-summer-2015
DTEND;VALUE=DATE:20150816
DTSTAMP:20260424T102053Z
DTSTART;VALUE=DATE:20150816
LOCATION:
SEQUENCE:0
SUMMARY:Maccabi Summer 2015
UID:23510baf-7d6d-4795-89c7-50308e3b4c0c
END:VEVENT
END:VCALENDAR
