BEGIN:VCALENDAR
PRODID:-//github.com/rianjs/ical.net//NONSGML ical.net 4.0//EN
VERSION:2.0
BEGIN:VEVENT
DESCRIPTION:Details:\nhttps://bbyo.org/bbyo-near-you/regions/pacific-weste
 rn-region/pwr-13th-regional-board-in-person-elections\n\nSummary:\nThis i
 s the sign up for IN PERSON elections. If you will be attending 13th Boar
 d Elections IN PERSON\, please regsister here.
DTEND:20240519T160000
DTSTAMP:20260423T001931Z
DTSTART:20240519T120000
LOCATION:Irvine California
SEQUENCE:0
SUMMARY:PWR 13th Regional Board IN PERSON Elections
UID:f9a20228-3df7-445e-8399-8cdf268f5b17
END:VEVENT
END:VCALENDAR
