BEGIN:VCALENDAR
PRODID:-//github.com/rianjs/ical.net//NONSGML ical.net 4.0//EN
VERSION:2.0
BEGIN:VEVENT
DESCRIPTION:Details:\nhttps://bbyo.org/bbyo-near-you/regions/northern-regi
 on-east-dc-council/returning-parent-info-session-(1)
DTEND:20230906T200000
DTSTAMP:20260420T120244Z
DTSTART:20230906T190000
LOCATION:
SEQUENCE:0
SUMMARY:Returning Parent Info Session
UID:60ef0d08-55e0-4498-8f1b-0c1020b9a344
END:VEVENT
END:VCALENDAR
