BEGIN:VCALENDAR
PRODID:-//github.com/rianjs/ical.net//NONSGML ical.net 4.0//EN
VERSION:2.0
BEGIN:VEVENT
DESCRIPTION:Details:\nhttps://bbyo.org/bbyo-near-you/regions/nassau-suffol
 k-region/nsr-prospect-open-house
DTEND:20230402T153000
DTSTAMP:20260425T182955Z
DTSTART:20230402T133000
LOCATION:Syosset New York
SEQUENCE:0
SUMMARY:NSR Prospect Open House
UID:66017ab0-66e3-4c56-b063-1dc5253ccc67
END:VEVENT
END:VCALENDAR
