BEGIN:VCALENDAR
PRODID:-//github.com/rianjs/ical.net//NONSGML ical.net 4.0//EN
VERSION:2.0
BEGIN:VEVENT
DESCRIPTION:Details:\nhttps://bbyo.org/bbyo-near-you/regions/mid-america-r
 egion-st-louis-council/bbg-bid-day-outdoor-movie-night
DTEND:20210206T220000
DTSTAMP:20260423T002457Z
DTSTART:20210206T183000
LOCATION:JCC East
SEQUENCE:0
SUMMARY:BBG Bid Day / Outdoor Movie Night
UID:e4e02165-04eb-473e-9a57-bb8f28c66a0f
END:VEVENT
END:VCALENDAR
