BEGIN:VCALENDAR
PRODID:-//github.com/rianjs/ical.net//NONSGML ical.net 4.0//EN
VERSION:2.0
BEGIN:VEVENT
DESCRIPTION:Details:\nhttps://bbyo.org/bbyo-near-you/regions/keystone-moun
 tain-region/kmr-bbyo-spring-convention-2023
DTEND;VALUE=DATE:20230423
DTSTAMP:20260421T100932Z
DTSTART:20230421T170000
LOCATION:Emma Kaufmann Camp
SEQUENCE:0
SUMMARY:KMR BBYO - Spring Convention 2023
UID:ac23c924-711b-498a-a4f1-4c0720506cec
END:VEVENT
END:VCALENDAR
