BEGIN:VCALENDAR
PRODID:-//github.com/rianjs/ical.net//NONSGML ical.net 4.0//EN
VERSION:2.0
BEGIN:VEVENT
DESCRIPTION:Details:\nhttps://bbyo.org/bbyo-near-you/regions/michigan-regi
 on/mba-relax-and-rejuvenate\n\nSummary:\nJoin Michigan Region and our Min
 d Body Attitude Program for a relaxing day of reflection with Shalom Mayb
 erg. Shalom will be running yoga\, body movement\, and meaningful discuss
 ions. \n\n \n\nPle
DTEND:20201024T160000
DTSTAMP:20260419T145032Z
DTSTART:20201024T140000
LOCATION:JCC
SEQUENCE:0
SUMMARY:MBA: Relax and Rejuvenate
UID:e2ec7603-9438-457a-8581-069c59fc6a0b
END:VEVENT
END:VCALENDAR
