BEGIN:VCALENDAR
PRODID:-//github.com/rianjs/ical.net//NONSGML ical.net 4.0//EN
VERSION:2.0
BEGIN:VEVENT
DESCRIPTION:Details:\nhttps://bbyo.org/bbyo-near-you/regions/lonestar-regi
 on/austin-bbyo-fall-2023-kickoff\n\nSummary:\nCome kick off the fall seme
 ster with Austin BBYO at Crux Climbing Center (South Austin location)! Th
 ere will be pizza\, soda\, and the chance to try rock climbing!\n\nThis e
 vent is open to all Jewish 9th-12th graders in the Greater Austin area.\n
 \nAll participants must fill out this waiver:  https://www.cruxclimbingce
 nter.com/south-austin/ewaiver/\n\nQuestions? Reach out to lsr@bbyo.org
DTEND:20230826T210000
DTSTAMP:20260420T102255Z
DTSTART:20230826T190000
LOCATION:Austin Texas
SEQUENCE:0
SUMMARY:Austin BBYO Fall 2023 Kickoff
UID:621580bc-2a50-4efd-a851-cfecb287fc82
END:VEVENT
END:VCALENDAR
