BEGIN:VCALENDAR
PRODID:-//github.com/rianjs/ical.net//NONSGML ical.net 4.0//EN
VERSION:2.0
BEGIN:VEVENT
DESCRIPTION:Details:\nhttps://bbyo.org/bbyo-near-you/regions/rocky-mountai
 n-region/winter-dance
DTEND:20061202T230000
DTSTAMP:20260419T123145Z
DTSTART:20061202T190000
LOCATION:Denver
SEQUENCE:0
SUMMARY:Winter Dance
UID:8acc5d69-b7d8-43aa-a3af-cd0b29da92e5
END:VEVENT
END:VCALENDAR
