BEGIN:VCALENDAR
PRODID:-//github.com/rianjs/ical.net//NONSGML ical.net 4.0//EN
VERSION:2.0
BEGIN:VEVENT
DESCRIPTION:Details:\nhttps://bbyo.org/bbyo-near-you/regions/keystone-moun
 tain-region/chapter-election-information-session
DTEND:20240118T200000
DTSTAMP:20260420T153320Z
DTSTART:20240118T190000
LOCATION:
SEQUENCE:0
SUMMARY:Chapter Election Information Session
UID:3a4421a4-bfc1-4c83-896f-3e075cbeb15c
END:VEVENT
END:VCALENDAR
