BEGIN:VCALENDAR
PRODID:-//github.com/rianjs/ical.net//NONSGML ical.net 4.0//EN
VERSION:2.0
BEGIN:VEVENT
DESCRIPTION:Details:\nhttps://bbyo.org/bbyo-near-you/regions/new-england-r
 egion/ner-virtual-lti-part-2
DTEND:20220109T150000
DTSTAMP:20260423T042654Z
DTSTART:20220109T110000
LOCATION:Zoom
SEQUENCE:0
SUMMARY:NER Virtual LTI Part 2
UID:7f42545a-4be6-45b3-9ec8-4110ae7ecd37
END:VEVENT
END:VCALENDAR
