BEGIN:VCALENDAR
PRODID:-//github.com/rianjs/ical.net//NONSGML ical.net 4.0//EN
VERSION:2.0
BEGIN:VEVENT
DESCRIPTION:Details:\nhttps://bbyo.org/bbyo-near-you/regions/south-jersey-
 region/regional-board-meeting-(3)
DTEND:20221006T200000
DTSTAMP:20260421T082140Z
DTSTART:20221006T190000
LOCATION:
SEQUENCE:0
SUMMARY:Regional Board Meeting
UID:51f29770-7d84-4049-8ede-a1759a2af3b0
END:VEVENT
END:VCALENDAR
