BEGIN:VCALENDAR
PRODID:-//github.com/rianjs/ical.net//NONSGML ical.net 4.0//EN
VERSION:2.0
BEGIN:VEVENT
DESCRIPTION:Details:\nhttps://bbyo.org/bbyo-near-you/regions/great-midwest
 -region/beber-visit-session-1-and-2-2015
DTEND:20150806T200000
DTSTAMP:20260425T182827Z
DTSTART:20150713T100000
LOCATION:Camp Beber
SEQUENCE:0
SUMMARY:Beber Visit Session 1 and 2 2015
UID:d8a3e521-f5e1-4290-a6ee-1a20515c5c75
END:VEVENT
END:VCALENDAR
