BEGIN:VCALENDAR
PRODID:-//github.com/rianjs/ical.net//NONSGML ical.net 4.0//EN
VERSION:2.0
BEGIN:VEVENT
DESCRIPTION:Details:\nhttps://bbyo.org/bbyo-near-you/regions/keystone-moun
 tain-region/cltc-8-(4)\n\nSummary:\nChapter Leadership Training Conferenc
 e\, CLTC\, is designed for AZA and BBG members who want to learn how to b
 uild and strengthen their chapter. At CLTC\, teens have fun with peers fr
 om acro
DTEND:20170813T050000
DTSTAMP:20260425T183356Z
DTSTART:20170801T090000
LOCATION:Beber Camp
SEQUENCE:0
SUMMARY:CLTC 8
UID:80fd96ad-362d-4a58-a08f-eca2e4b832a5
END:VEVENT
END:VCALENDAR
