BEGIN:VCALENDAR
PRODID:-//github.com/rianjs/ical.net//NONSGML ical.net 4.0//EN
VERSION:2.0
BEGIN:VEVENT
DESCRIPTION:Details:\nhttps://bbyo.org/bbyo-near-you/regions/northern-regi
 on-east-baltimore-council/nre-ic-2020-spirit-pack\n\nSummary:\nPurchase y
 our NRE IC 2020 Spirit Pack here. The spirit pack contains 2 shirts and e
 xtra items for showing spirit.
DTEND:20200217T170000
DTSTAMP:20260423T002232Z
DTSTART:20200212T120000
LOCATION:
SEQUENCE:0
SUMMARY:NRE IC 2020 Spirit Pack
UID:59ce7089-d97c-4b0d-8b6e-e20e76ab7138
END:VEVENT
END:VCALENDAR
