BEGIN:VCALENDAR
PRODID:-//github.com/rianjs/ical.net//NONSGML ical.net 4.0//EN
VERSION:2.0
BEGIN:VEVENT
DESCRIPTION:Details:\nhttps://bbyo.org/bbyo-near-you/regions/wisconsin-reg
 ion/wi-ic-2020-spirit-gear\n\nSummary:\nPurchase your IC 2020 Spirit Gear
  Here!
DTEND:20200128T235900
DTSTAMP:20260423T215032Z
DTSTART:20200128T235800
LOCATION:
SEQUENCE:0
SUMMARY:WI - IC 2020 Spirit Gear
UID:eb78c039-9fa8-46f2-8a5a-a1730ea989e5
END:VEVENT
END:VCALENDAR
