BEGIN:VCALENDAR
PRODID:-//github.com/rianjs/ical.net//NONSGML ical.net 4.0//EN
VERSION:2.0
BEGIN:VEVENT
DESCRIPTION:Details:\nhttps://bbyo.org/bbyo-near-you/regions/lake-ontario-
 region/lor-2016-02-24-bbyo-invite-night
DTEND:20160224T200000
DTSTAMP:20260422T202505Z
DTSTART:20160224T183000
LOCATION:Schwartz/Reisman Centre
SEQUENCE:0
SUMMARY:LOR 2016-02-24 - BBYO Invite Night
UID:7dd36367-7819-4623-826d-7ff781d367a9
END:VEVENT
END:VCALENDAR
