BEGIN:VCALENDAR
PRODID:-//github.com/rianjs/ical.net//NONSGML ical.net 4.0//EN
VERSION:2.0
BEGIN:VEVENT
DESCRIPTION:Details:\nhttps://bbyo.org/bbyo-near-you/regions/hudson-valley
 -region/hvr-spring-convention-beach-swag-pack\n\nSummary:\nUse this link 
 to get your Beach Swag Pack! An amazing pair of sunglasses and a beach to
 wel
DTEND;VALUE=DATE:20200517
DTSTAMP:20260423T195722Z
DTSTART;VALUE=DATE:20200515
LOCATION:
SEQUENCE:0
SUMMARY:HVR Spring Convention Beach Swag Pack
UID:a2bffb1e-9ab6-4e29-8ee3-ab825270b84d
END:VEVENT
END:VCALENDAR
