BEGIN:VCALENDAR
PRODID:-//github.com/rianjs/ical.net//NONSGML ical.net 4.0//EN
VERSION:2.0
BEGIN:VEVENT
DESCRIPTION:Details:\nhttps://bbyo.org/bbyo-near-you/regions/northern-regi
 on-east-northern-virginia-council/nova-council-parent-meeting\n\nSummary:
 \nParents\, join NoVA Council for a meeting around our Return to Program 
 plan and Summer program info.
DTEND:20200923T203000
DTSTAMP:20260420T140537Z
DTSTART:20200923T193000
LOCATION:Zoom
SEQUENCE:0
SUMMARY:NoVA Council Parent Meeting
UID:f7322f4c-99bf-4e1c-beee-9d87f0028d33
END:VEVENT
END:VCALENDAR
