BEGIN:VCALENDAR
PRODID:-//github.com/rianjs/ical.net//NONSGML ical.net 4.0//EN
VERSION:2.0
BEGIN:VEVENT
DESCRIPTION:Details:\nhttps://bbyo.org/bbyo-near-you/regions/michigan-regi
 on/bbyo-connect-at-rc-seats-at-lip-sync-and-tc-party
DTEND:20151230T140000
DTSTAMP:20260424T145609Z
DTSTART:20151230T130000
LOCATION:West Bloomfield JCC- Teen Center
SEQUENCE:0
SUMMARY:BBYO Connect at RC: Seats at Lip Sync and TC Party (PC:5110)
UID:0e74d234-324f-4101-96b5-0d60d504d8f8
END:VEVENT
END:VCALENDAR
