BEGIN:VCALENDAR
PRODID:-//github.com/rianjs/ical.net//NONSGML ical.net 4.0//EN
VERSION:2.0
BEGIN:VEVENT
DESCRIPTION:Details:\nhttps://bbyo.org/bbyo-near-you/regions/north-texas-o
 klahoma-region/2024-ic-swag-pack
DTEND;VALUE=DATE:20240216
DTSTAMP:20260420T102254Z
DTSTART;VALUE=DATE:20240215
LOCATION:
SEQUENCE:0
SUMMARY:2024 IC Swag Pack
UID:e5057311-5f2f-4a18-a6fc-67f4e3585f69
END:VEVENT
END:VCALENDAR
