BEGIN:VCALENDAR
PRODID:-//github.com/rianjs/ical.net//NONSGML ical.net 4.0//EN
VERSION:2.0
BEGIN:VEVENT
DESCRIPTION:Details:\nhttps://bbyo.org/bbyo-near-you/regions/kentucky-indi
 ana-ohio-region/kio-kickoff-at-kings-island-season-pass-holder
DTEND:20230827T180000
DTSTAMP:20260421T141556Z
DTSTART:20230827T080000
LOCATION:Kings Island
SEQUENCE:0
SUMMARY:KIO Kickoff at Kings Island- SEASON PASS HOLDER
UID:5e357bca-5506-4561-b809-c99bb7edc69a
END:VEVENT
END:VCALENDAR
