BEGIN:VCALENDAR
PRODID:-//github.com/rianjs/ical.net//NONSGML ical.net 4.0//EN
VERSION:2.0
BEGIN:VEVENT
DESCRIPTION:Details:\nhttps://bbyo.org/bbyo-near-you/regions/new-england-r
 egion/giving-bbyo-day-ambassador-event-(in-person)
DTEND:20221128T200000
DTSTAMP:20260420T180516Z
DTSTART:20221128T180000
LOCATION:Will be sent via DM
SEQUENCE:0
SUMMARY:Giving BBYO Day Ambassador Event (In Person)
UID:7b2dced3-c96c-4c2e-9d42-1731e91a3a93
END:VEVENT
END:VCALENDAR
